BEGIN:VCALENDAR
VERSION:2.0
PRODID:-//Peer To Beer - Master Brewer - ECPv6.15.20//NONSGML v1.0//EN
CALSCALE:GREGORIAN
METHOD:PUBLISH
X-ORIGINAL-URL:https://peertobeer.net
X-WR-CALDESC:Events for Peer To Beer - Master Brewer
REFRESH-INTERVAL;VALUE=DURATION:PT1H
X-Robots-Tag:noindex
X-PUBLISHED-TTL:PT1H
BEGIN:VTIMEZONE
TZID:UTC
BEGIN:STANDARD
TZOFFSETFROM:+0000
TZOFFSETTO:+0000
TZNAME:UTC
DTSTART:20180101T000000
END:STANDARD
END:VTIMEZONE
BEGIN:VEVENT
DTSTART;VALUE=DATE:20191014
DTEND;VALUE=DATE:20191015
DTSTAMP:20260424T062340
CREATED:20190209T052029Z
LAST-MODIFIED:20190209T052029Z
UID:720-1571011200-1571097599@peertobeer.net
SUMMARY:Homebrewing Legalization
DESCRIPTION:1978!
URL:https://peertobeer.net/event/homebrewing-legalization/
END:VEVENT
BEGIN:VEVENT
DTSTART;VALUE=DATE:20191009
DTEND;VALUE=DATE:20191010
DTSTAMP:20260424T062340
CREATED:20190209T051911Z
LAST-MODIFIED:20190209T051911Z
UID:718-1570579200-1570665599@peertobeer.net
SUMMARY:Beer & Pizza Day
DESCRIPTION:Celebrated each year on October 9th\, International Beer and Pizza Day pays homage to one of the most iconic food and drink combinations on the planet Earth. Both beer and pizza come in a countless number of varieties and both are enjoyed by many different cultures all over the world. – Started in 2016
URL:https://peertobeer.net/event/beer-pizza-day/
END:VEVENT
BEGIN:VEVENT
DTSTART;VALUE=DATE:20191005
DTEND;VALUE=DATE:20191006
DTSTAMP:20260424T062340
CREATED:20190209T051817Z
LAST-MODIFIED:20190209T051817Z
UID:716-1570233600-1570319999@peertobeer.net
SUMMARY:Pilsner Anniversary
DESCRIPTION:Since 1842!
URL:https://peertobeer.net/event/pilsner-anniversary/
END:VEVENT
BEGIN:VEVENT
DTSTART;VALUE=DATE:20190928
DTEND;VALUE=DATE:20190929
DTSTAMP:20260424T062340
CREATED:20190209T051705Z
LAST-MODIFIED:20190209T051705Z
UID:714-1569628800-1569715199@peertobeer.net
SUMMARY:Drink Beer Day
DESCRIPTION:
URL:https://peertobeer.net/event/drink-beer-day/
END:VEVENT
BEGIN:VEVENT
DTSTART;VALUE=DATE:20190922
DTEND;VALUE=DATE:20190923
DTSTAMP:20260424T062340
CREATED:20190209T051615Z
LAST-MODIFIED:20190209T051615Z
UID:712-1569110400-1569196799@peertobeer.net
SUMMARY:O' Zapft is
DESCRIPTION:1st day of Oktoberfest
URL:https://peertobeer.net/event/o-zapft-is/
END:VEVENT
BEGIN:VEVENT
DTSTART;VALUE=DATE:20190920
DTEND;VALUE=DATE:20190921
DTSTAMP:20260424T062340
CREATED:20190209T051452Z
LAST-MODIFIED:20190209T051452Z
UID:710-1568937600-1569023999@peertobeer.net
SUMMARY:Sour Beer Day
DESCRIPTION:
URL:https://peertobeer.net/event/sour-beer-day/
END:VEVENT
BEGIN:VEVENT
DTSTART;VALUE=DATE:20190917
DTEND;VALUE=DATE:20190918
DTSTAMP:20260424T062340
CREATED:20190227T222510Z
LAST-MODIFIED:20190227T222510Z
UID:877-1568678400-1568764799@peertobeer.net
SUMMARY:St. Hildegard of Bingen Birthday
DESCRIPTION:She was the 1st person to publicly recommend hops as a healing\, bittering and preserving agent some 500  years before mainstream society took heed. \nShe is the St Patron of hop growers!
URL:https://peertobeer.net/event/st-hildegard-of-bingen-birthday/
END:VEVENT
BEGIN:VEVENT
DTSTART;VALUE=DATE:20190906
DTEND;VALUE=DATE:20190909
DTSTAMP:20260424T062340
CREATED:20190211T015036Z
LAST-MODIFIED:20190211T023234Z
UID:789-1567728000-1567987199@peertobeer.net
SUMMARY:Brussels Beer WE
DESCRIPTION:https://www.bruxelles.be/belgian-beer-weekend
URL:https://peertobeer.net/event/brussels-beer-we/
END:VEVENT
BEGIN:VEVENT
DTSTART;TZID=UTC:20190809T080000
DTEND;TZID=UTC:20190809T170000
DTSTAMP:20260424T062340
CREATED:20190809T122615Z
LAST-MODIFIED:20190809T122615Z
UID:981-1565337600-1565370000@peertobeer.net
SUMMARY:OCTFEST19
DESCRIPTION:Come dance in front of the stage with craft beers from around the world. \nOCTFEST19\nAn international beer \, music and food celebration \nPresented by Pitchfork and October \nKNOCKDOWN CENTER\, NYC
URL:https://peertobeer.net/event/octfest19/
END:VEVENT
BEGIN:VEVENT
DTSTART;VALUE=DATE:20190802
DTEND;VALUE=DATE:20190803
DTSTAMP:20260424T062340
CREATED:20190209T051407Z
LAST-MODIFIED:20190209T051407Z
UID:708-1564704000-1564790399@peertobeer.net
SUMMARY:International Beer Day
DESCRIPTION:
URL:https://peertobeer.net/event/international-beer-day/
END:VEVENT
BEGIN:VEVENT
DTSTART;VALUE=DATE:20190801
DTEND;VALUE=DATE:20190802
DTSTAMP:20260424T062340
CREATED:20190209T051300Z
LAST-MODIFIED:20190209T051300Z
UID:706-1564617600-1564703999@peertobeer.net
SUMMARY:IPA Day
DESCRIPTION:
URL:https://peertobeer.net/event/ipa-day/
END:VEVENT
BEGIN:VEVENT
DTSTART;VALUE=DATE:20190507
DTEND;VALUE=DATE:20190508
DTSTAMP:20260424T062340
CREATED:20190209T051147Z
LAST-MODIFIED:20190209T051147Z
UID:704-1557187200-1557273599@peertobeer.net
SUMMARY:National Homebrew Day
DESCRIPTION:
URL:https://peertobeer.net/event/national-homebrew-day/
END:VEVENT
BEGIN:VEVENT
DTSTART;TZID=UTC:20190505T080000
DTEND;TZID=UTC:20190505T170000
DTSTAMP:20260424T062340
CREATED:20190429T175335Z
LAST-MODIFIED:20190429T175335Z
UID:931-1557043200-1557075600@peertobeer.net
SUMMARY:Cinco de Mayo
DESCRIPTION:Cinco de Mayo marks a day in 1862 when the Mexican army won over France at the Battle of Puebla. At the time\, the countries were locked in the Franco-Mexican War\, and Mexico’s unlikely victory served as a turning point. \nCinco de Mayo is not widely celebrated in Mexico today. In contrast\, a combination of Mexican-American pride and mass marketing of the holiday have led to widespread festivities in the U.S.\, making the holiday we celebrate a uniquely American experience. \nI suppose it’s a good day for Mexican beers (Vienna lager anyone?) and some guac!
URL:https://peertobeer.net/event/cinco-de-mayo/
END:VEVENT
BEGIN:VEVENT
DTSTART;VALUE=DATE:20190504
DTEND;VALUE=DATE:20190506
DTSTAMP:20260424T062340
CREATED:20190211T015433Z
LAST-MODIFIED:20190211T015433Z
UID:791-1556928000-1557100799@peertobeer.net
SUMMARY:Toer de Gueuze 2019
DESCRIPTION:https://www.horal.be/en/toer-de-geuze
URL:https://peertobeer.net/event/toer-de-gueuze-2019/
END:VEVENT
BEGIN:VEVENT
DTSTART;VALUE=DATE:20190423
DTEND;VALUE=DATE:20190424
DTSTAMP:20260424T062340
CREATED:20190206T173637Z
LAST-MODIFIED:20190206T173637Z
UID:515-1555977600-1556063999@peertobeer.net
SUMMARY:German Purity Law Anniversary
DESCRIPTION:
URL:https://peertobeer.net/event/german-purity-law-anniversary/
END:VEVENT
BEGIN:VEVENT
DTSTART;VALUE=DATE:20190417
DTEND;VALUE=DATE:20190418
DTSTAMP:20260424T062340
CREATED:20190206T173403Z
LAST-MODIFIED:20190206T173559Z
UID:512-1555459200-1555545599@peertobeer.net
SUMMARY:Saison Day
DESCRIPTION:
URL:https://peertobeer.net/event/little-repeal-anniversary/
END:VEVENT
BEGIN:VEVENT
DTSTART;VALUE=DATE:20190407
DTEND;VALUE=DATE:20190408
DTSTAMP:20260424T062340
CREATED:20190327T205743Z
LAST-MODIFIED:20190327T205743Z
UID:920-1554595200-1554681599@peertobeer.net
SUMMARY:National Beer Day
DESCRIPTION:On April 7\, 1933\, President Roosevelt ended Prohibition and signed a law allowing people to brew and distribute beer in the United States
URL:https://peertobeer.net/event/national-beer-day/
END:VEVENT
BEGIN:VEVENT
DTSTART;VALUE=DATE:20190329
DTEND;VALUE=DATE:20190330
DTSTAMP:20260424T062340
CREATED:20190206T173240Z
LAST-MODIFIED:20190206T173240Z
UID:510-1553817600-1553903999@peertobeer.net
SUMMARY:Michael Jackson's Anniversary
DESCRIPTION:
URL:https://peertobeer.net/event/michael-jacksons-anniversary/
END:VEVENT
BEGIN:VEVENT
DTSTART;VALUE=DATE:20190317
DTEND;VALUE=DATE:20190318
DTSTAMP:20260424T062340
CREATED:20190206T164141Z
LAST-MODIFIED:20190319T142709Z
UID:489-1552780800-1552867199@peertobeer.net
SUMMARY:St Patrick's Day
DESCRIPTION:
URL:https://peertobeer.net/event/st-patricks-day/
END:VEVENT
BEGIN:VEVENT
DTSTART;VALUE=DATE:20190312
DTEND;VALUE=DATE:20190313
DTSTAMP:20260424T062340
CREATED:20190225T021135Z
LAST-MODIFIED:20190225T021232Z
UID:874-1552348800-1552435199@peertobeer.net
SUMMARY:312 - Chicago Culture
DESCRIPTION:Area code 312 is the telephone area code for downtown Chicago \nFor Goose Island it’s a bank holiday and a big celebration of the people who inspire and create the city’s amazing culture. It goes with loads of 312 wheat ale. \n  \n 
URL:https://peertobeer.net/event/312-chicago-culture/
END:VEVENT
BEGIN:VEVENT
DTSTART;VALUE=DATE:20190124
DTEND;VALUE=DATE:20190125
DTSTAMP:20260424T062340
CREATED:20190206T164104Z
LAST-MODIFIED:20190206T164221Z
UID:487-1548288000-1548374399@peertobeer.net
SUMMARY:Beer Can Appreciation Day
DESCRIPTION:Celebrating the anniversary of the 1st Beer Can in 1935!
URL:https://peertobeer.net/event/beer-can-appreciation-day/
END:VEVENT
END:VCALENDAR