BEGIN:VCALENDAR
VERSION:2.0
PRODID:-//Peer To Beer - Master Brewer - ECPv6.15.20//NONSGML v1.0//EN
CALSCALE:GREGORIAN
METHOD:PUBLISH
X-ORIGINAL-URL:https://peertobeer.net
X-WR-CALDESC:Events for Peer To Beer - Master Brewer
REFRESH-INTERVAL;VALUE=DURATION:PT1H
X-Robots-Tag:noindex
X-PUBLISHED-TTL:PT1H
BEGIN:VTIMEZONE
TZID:UTC
BEGIN:STANDARD
TZOFFSETFROM:+0000
TZOFFSETTO:+0000
TZNAME:UTC
DTSTART:20180101T000000
END:STANDARD
END:VTIMEZONE
BEGIN:VEVENT
DTSTART;VALUE=DATE:20200920
DTEND;VALUE=DATE:20200921
DTSTAMP:20260424T021902
CREATED:20200114T212135Z
LAST-MODIFIED:20200114T212215Z
UID:1196-1600560000-1600646399@peertobeer.net
SUMMARY:Sour Beer Day
DESCRIPTION:Sour beer face contest …how about a Belgian Lambic? A Berliner Weisse ? An American Wild Ale ?
URL:https://peertobeer.net/event/sour-beer-day-2/
END:VEVENT
BEGIN:VEVENT
DTSTART;TZID=UTC:20200919T080000
DTEND;TZID=UTC:20201004T170000
DTSTAMP:20260424T021902
CREATED:20200114T212014Z
LAST-MODIFIED:20200114T212014Z
UID:1194-1600502400-1601830800@peertobeer.net
SUMMARY:Oktoberfest
DESCRIPTION:Starting now and for 16 days\, the largest beer celebration of the world.
URL:https://peertobeer.net/event/oktoberfest/
END:VEVENT
BEGIN:VEVENT
DTSTART;VALUE=DATE:20200917
DTEND;VALUE=DATE:20200918
DTSTAMP:20260424T021902
CREATED:20200114T211654Z
LAST-MODIFIED:20200114T211743Z
UID:1192-1600300800-1600387199@peertobeer.net
SUMMARY:St Hildegard Von Bingen Birthday (Patron Saint of Hop Growers)
DESCRIPTION:St Hildegard Von Bingen is the Patron Saint of Hop Growers. \nLet’s celebrate 1000 years (or so) of hop exlporation. Try an English Bitter or a West Coast IPA or go visit some hop fields\, it’s about time to rub some cones!
URL:https://peertobeer.net/event/st-hildegard-von-bingen-birthday-patron-saint-of-hop-growers/
END:VEVENT
BEGIN:VEVENT
DTSTART;VALUE=DATE:20200807
DTEND;VALUE=DATE:20200808
DTSTAMP:20260424T021902
CREATED:20200114T211337Z
LAST-MODIFIED:20200114T211337Z
UID:1189-1596758400-1596844799@peertobeer.net
SUMMARY:International Beer Day
DESCRIPTION:
URL:https://peertobeer.net/event/international-beer-day-2/
END:VEVENT
BEGIN:VEVENT
DTSTART;VALUE=DATE:20200806
DTEND;VALUE=DATE:20200807
DTSTAMP:20260424T021902
CREATED:20200114T210904Z
LAST-MODIFIED:20200114T210904Z
UID:1187-1596672000-1596758399@peertobeer.net
SUMMARY:IPA Day
DESCRIPTION:The IPA seems to have developed out of an idea from the 1700s. When shipping ale to India\, adding hops to the beer increased the longevity of the brew. Brewers thought that hops preserved the beer for long voyages to hot climates. One London brewer gained attention for his ability to brew this particular style of beer. George Hodgson shipped many casks of pale ales to India from London. However\, no one knows for sure when or who coined the name India Pale Ale. \nBrewers ferment barley to make India Pale Ales. Depending on the length of fermentation\, the tannins may cause some bitterness in the beer\, even after adding the hops. While IPAs have a reputation of being bitter and hoppy\, not all are. They also tend to be crisper than other beers.
URL:https://peertobeer.net/event/ipa-day-2/
END:VEVENT
BEGIN:VEVENT
DTSTART;TZID=UTC:20200804T080000
DTEND;TZID=UTC:20200808T170000
DTSTAMP:20260424T021902
CREATED:20200114T215030Z
LAST-MODIFIED:20200114T215030Z
UID:1216-1596528000-1596906000@peertobeer.net
SUMMARY:Great British Beer Festival
DESCRIPTION:Great British Beer Festival
URL:https://peertobeer.net/event/great-british-beer-festival/
END:VEVENT
BEGIN:VEVENT
DTSTART;VALUE=DATE:20200513
DTEND;VALUE=DATE:20200514
DTSTAMP:20260424T021902
CREATED:20200114T135636Z
LAST-MODIFIED:20200114T135636Z
UID:1183-1589328000-1589414399@peertobeer.net
SUMMARY:World Cocktail Day
DESCRIPTION:Time to show the world how to do beer cocktails!!!
URL:https://peertobeer.net/event/world-cocktail-day/
END:VEVENT
BEGIN:VEVENT
DTSTART;TZID=UTC:20200511T080000
DTEND;TZID=UTC:20200517T170000
DTSTAMP:20260424T021902
CREATED:20200114T135855Z
LAST-MODIFIED:20200114T135855Z
UID:1185-1589184000-1589734800@peertobeer.net
SUMMARY:American Craft Beer Week
DESCRIPTION:American Craft Beer Week® is the nationwide celebration of U.S. small and independent craft brewers. The week long salute provides an opportunity for craft brewers to share their creativity and passion for the beverage they love. This year’s American Craft Beer Week will be celebrated May 11-17\, 2020.
URL:https://peertobeer.net/event/american-craft-beer-week/
END:VEVENT
BEGIN:VEVENT
DTSTART;VALUE=DATE:20200507
DTEND;VALUE=DATE:20200508
DTSTAMP:20260424T021902
CREATED:20200114T135529Z
LAST-MODIFIED:20200114T135529Z
UID:1181-1588809600-1588895999@peertobeer.net
SUMMARY:Homebrew Day
DESCRIPTION:In 1988\, the American Homebrewers Association presented before Congress National Homebrew Day to be observed the first Saturday in May. \nThe first Saturday in May is National Homebrew Day. Every year the American Homebrewers Association holds the Big Brew to celebrate National Homebrew Day by bringing homebrewers together to make the same official recipes for side by side competition. \nThere are different breeds of homebrewers. Those who hold to time-honored traditions and those who push the edge of flavor and experimentation. Both express their personality with barley\, hops and yeast and a little something else. \nWhatever your personal flair\, honey and ginger or hoppy and dark\, if you are a homebrewer National Homebrew Day is for you. \nFor more information\, you can visit the American Homebrews Association website.
URL:https://peertobeer.net/event/homebrew-day/
END:VEVENT
BEGIN:VEVENT
DTSTART;VALUE=DATE:20200423
DTEND;VALUE=DATE:20200424
DTSTAMP:20260424T021902
CREATED:20200114T135129Z
LAST-MODIFIED:20200114T135129Z
UID:1179-1587600000-1587686399@peertobeer.net
SUMMARY:Enactment of the Reinheitsgebot
DESCRIPTION:In 1516 the German Purity Law was enacted
URL:https://peertobeer.net/event/enactment-of-the-reinheitsgebot/
END:VEVENT
BEGIN:VEVENT
DTSTART;VALUE=DATE:20200407
DTEND;VALUE=DATE:20200408
DTSTAMP:20260424T021902
CREATED:20200114T134950Z
LAST-MODIFIED:20200114T134950Z
UID:1177-1586217600-1586303999@peertobeer.net
SUMMARY:Beer Day
DESCRIPTION:Eight months before Prohibition officially ended\, the country celebrated “New Beer’s Eve.”\nAfter 13 long years\, alcohol would once again flow in Lake’s hotel starting on April 7\, at 12:01 a.m.
URL:https://peertobeer.net/event/beer-day/
END:VEVENT
BEGIN:VEVENT
DTSTART;VALUE=DATE:20200322
DTEND;VALUE=DATE:20200323
DTSTAMP:20260424T021902
CREATED:20200114T134207Z
LAST-MODIFIED:20200114T134348Z
UID:1175-1584835200-1584921599@peertobeer.net
SUMMARY:Bockbier Day
DESCRIPTION:Celebrate this classic German lager and discover the Bock’s variations: Doppelbock\, Eisbock\, Dunklebock\,…
URL:https://peertobeer.net/event/bockbier-day/
END:VEVENT
BEGIN:VEVENT
DTSTART;VALUE=DATE:20200317
DTEND;VALUE=DATE:20200318
DTSTAMP:20260424T021902
CREATED:20200114T134007Z
LAST-MODIFIED:20200114T134422Z
UID:1173-1584403200-1584489599@peertobeer.net
SUMMARY:St Patrick's Day
DESCRIPTION:St Patrick’s Day \nTry an Irish Stout\, a Red Ale ? \n 
URL:https://peertobeer.net/event/st-patricks-day-2/
END:VEVENT
BEGIN:VEVENT
DTSTART;VALUE=DATE:20200312
DTEND;VALUE=DATE:20200313
DTSTAMP:20260424T021902
CREATED:20200114T133818Z
LAST-MODIFIED:20200114T134515Z
UID:1171-1583971200-1584057599@peertobeer.net
SUMMARY:312 Block Party
DESCRIPTION:312 is the area code of Chicago and it’s also the name of one of the most popular beers of Goose Island…. So naturally on March 12th\, Goose Island celebrate with Chicago concerts and beers!
URL:https://peertobeer.net/event/312-block-party/
END:VEVENT
BEGIN:VEVENT
DTSTART;VALUE=DATE:20200114
DTEND;VALUE=DATE:20200115
DTSTAMP:20260424T021902
CREATED:20200114T133724Z
LAST-MODIFIED:20200114T133724Z
UID:1169-1578960000-1579046399@peertobeer.net
SUMMARY:Beer Can Appreciation Day
DESCRIPTION:It’s the anniversary of the first beer can (1935) – 85 years \nBeer Can Appreciation Day takes place on January 24\, 2020. A beer can is a metal container designed to hold a fixed portion of beer. Beer cans are made of aluminium or tin-plated steel. Worldwide production for all beverage cans is approximately 475 billion cans per year worldwide\, 52 billion per year in Europe. \nBeginning in the 1930s\, after an established history of success with storing food\, metal cans were used to store beverages. The first beer was available in cans beginning in 1935. This text has been taken from www.cute-calendar.com
URL:https://peertobeer.net/event/beer-can-appreciation-day-2/
END:VEVENT
BEGIN:VEVENT
DTSTART;VALUE=DATE:20191227
DTEND;VALUE=DATE:20191228
DTSTAMP:20260424T021902
CREATED:20190209T052502Z
LAST-MODIFIED:20190209T052502Z
UID:730-1577404800-1577491199@peertobeer.net
SUMMARY:Louis Pasteur Birthday
DESCRIPTION:
URL:https://peertobeer.net/event/louis-pasteur-birthday/
END:VEVENT
BEGIN:VEVENT
DTSTART;VALUE=DATE:20191210
DTEND;VALUE=DATE:20191211
DTSTAMP:20260424T021902
CREATED:20190209T052422Z
LAST-MODIFIED:20190209T052422Z
UID:728-1575936000-1576022399@peertobeer.net
SUMMARY:National Lager Day
DESCRIPTION:
URL:https://peertobeer.net/event/national-lager-day/
END:VEVENT
BEGIN:VEVENT
DTSTART;VALUE=DATE:20191205
DTEND;VALUE=DATE:20191206
DTSTAMP:20260424T021902
CREATED:20190209T052335Z
LAST-MODIFIED:20190209T052335Z
UID:726-1575504000-1575590399@peertobeer.net
SUMMARY:End of Prohibition - Repeal day -  21st Amendment
DESCRIPTION:1933
URL:https://peertobeer.net/event/end-of-prohibition-repeal-day-21st-amendment/
END:VEVENT
BEGIN:VEVENT
DTSTART;VALUE=DATE:20191107
DTEND;VALUE=DATE:20191108
DTSTAMP:20260424T021902
CREATED:20190209T052201Z
LAST-MODIFIED:20190209T052201Z
UID:724-1573084800-1573171199@peertobeer.net
SUMMARY:International Stout Day
DESCRIPTION:
URL:https://peertobeer.net/event/international-stout-day/
END:VEVENT
BEGIN:VEVENT
DTSTART;VALUE=DATE:20191027
DTEND;VALUE=DATE:20191028
DTSTAMP:20260424T021902
CREATED:20190209T052115Z
LAST-MODIFIED:20190209T052115Z
UID:722-1572134400-1572220799@peertobeer.net
SUMMARY:American Beer Day
DESCRIPTION:
URL:https://peertobeer.net/event/american-beer-day/
END:VEVENT
BEGIN:VEVENT
DTSTART;VALUE=DATE:20191014
DTEND;VALUE=DATE:20191015
DTSTAMP:20260424T021902
CREATED:20190209T052029Z
LAST-MODIFIED:20190209T052029Z
UID:720-1571011200-1571097599@peertobeer.net
SUMMARY:Homebrewing Legalization
DESCRIPTION:1978!
URL:https://peertobeer.net/event/homebrewing-legalization/
END:VEVENT
BEGIN:VEVENT
DTSTART;VALUE=DATE:20191009
DTEND;VALUE=DATE:20191010
DTSTAMP:20260424T021902
CREATED:20190209T051911Z
LAST-MODIFIED:20190209T051911Z
UID:718-1570579200-1570665599@peertobeer.net
SUMMARY:Beer & Pizza Day
DESCRIPTION:Celebrated each year on October 9th\, International Beer and Pizza Day pays homage to one of the most iconic food and drink combinations on the planet Earth. Both beer and pizza come in a countless number of varieties and both are enjoyed by many different cultures all over the world. – Started in 2016
URL:https://peertobeer.net/event/beer-pizza-day/
END:VEVENT
BEGIN:VEVENT
DTSTART;VALUE=DATE:20191005
DTEND;VALUE=DATE:20191006
DTSTAMP:20260424T021902
CREATED:20190209T051817Z
LAST-MODIFIED:20190209T051817Z
UID:716-1570233600-1570319999@peertobeer.net
SUMMARY:Pilsner Anniversary
DESCRIPTION:Since 1842!
URL:https://peertobeer.net/event/pilsner-anniversary/
END:VEVENT
BEGIN:VEVENT
DTSTART;VALUE=DATE:20190928
DTEND;VALUE=DATE:20190929
DTSTAMP:20260424T021902
CREATED:20190209T051705Z
LAST-MODIFIED:20190209T051705Z
UID:714-1569628800-1569715199@peertobeer.net
SUMMARY:Drink Beer Day
DESCRIPTION:
URL:https://peertobeer.net/event/drink-beer-day/
END:VEVENT
BEGIN:VEVENT
DTSTART;VALUE=DATE:20190922
DTEND;VALUE=DATE:20190923
DTSTAMP:20260424T021902
CREATED:20190209T051615Z
LAST-MODIFIED:20190209T051615Z
UID:712-1569110400-1569196799@peertobeer.net
SUMMARY:O' Zapft is
DESCRIPTION:1st day of Oktoberfest
URL:https://peertobeer.net/event/o-zapft-is/
END:VEVENT
BEGIN:VEVENT
DTSTART;VALUE=DATE:20190920
DTEND;VALUE=DATE:20190921
DTSTAMP:20260424T021902
CREATED:20190209T051452Z
LAST-MODIFIED:20190209T051452Z
UID:710-1568937600-1569023999@peertobeer.net
SUMMARY:Sour Beer Day
DESCRIPTION:
URL:https://peertobeer.net/event/sour-beer-day/
END:VEVENT
BEGIN:VEVENT
DTSTART;VALUE=DATE:20190917
DTEND;VALUE=DATE:20190918
DTSTAMP:20260424T021902
CREATED:20190227T222510Z
LAST-MODIFIED:20190227T222510Z
UID:877-1568678400-1568764799@peertobeer.net
SUMMARY:St. Hildegard of Bingen Birthday
DESCRIPTION:She was the 1st person to publicly recommend hops as a healing\, bittering and preserving agent some 500  years before mainstream society took heed. \nShe is the St Patron of hop growers!
URL:https://peertobeer.net/event/st-hildegard-of-bingen-birthday/
END:VEVENT
BEGIN:VEVENT
DTSTART;VALUE=DATE:20190906
DTEND;VALUE=DATE:20190909
DTSTAMP:20260424T021902
CREATED:20190211T015036Z
LAST-MODIFIED:20190211T023234Z
UID:789-1567728000-1567987199@peertobeer.net
SUMMARY:Brussels Beer WE
DESCRIPTION:https://www.bruxelles.be/belgian-beer-weekend
URL:https://peertobeer.net/event/brussels-beer-we/
END:VEVENT
BEGIN:VEVENT
DTSTART;TZID=UTC:20190809T080000
DTEND;TZID=UTC:20190809T170000
DTSTAMP:20260424T021902
CREATED:20190809T122615Z
LAST-MODIFIED:20190809T122615Z
UID:981-1565337600-1565370000@peertobeer.net
SUMMARY:OCTFEST19
DESCRIPTION:Come dance in front of the stage with craft beers from around the world. \nOCTFEST19\nAn international beer \, music and food celebration \nPresented by Pitchfork and October \nKNOCKDOWN CENTER\, NYC
URL:https://peertobeer.net/event/octfest19/
END:VEVENT
BEGIN:VEVENT
DTSTART;VALUE=DATE:20190802
DTEND;VALUE=DATE:20190803
DTSTAMP:20260424T021902
CREATED:20190209T051407Z
LAST-MODIFIED:20190209T051407Z
UID:708-1564704000-1564790399@peertobeer.net
SUMMARY:International Beer Day
DESCRIPTION:
URL:https://peertobeer.net/event/international-beer-day/
END:VEVENT
END:VCALENDAR